BEGIN:VCALENDAR
VERSION:2.0
PRODID:-//hacksw/handcal//NONSGML v1.0//EN
CALSCALE:GREGORIAN
X-WR-TIMEZONE:Europe/Vienna
BEGIN:VEVENT
DESCRIPTION:Style Commando präsentiert von STYLE UP YOUR LIFE!
DTSTART:20260509T100000
DTEND:20260509T170000
URL;VALUE=URI:https://www.fischapark.at/de/events/style-commando/2026-05-09
SUMMARY:Style Commando präsentiert von STYLE UP YOUR LIFE!
DTSTAMP:20260420T102008
UID:69e5fdd85600c
END:VEVENT
END:VCALENDAR