BEGIN:VCALENDAR
VERSION:2.0
PRODID:-//hacksw/handcal//NONSGML v1.0//EN
CALSCALE:GREGORIAN
X-WR-TIMEZONE:Europe/Vienna
BEGIN:VEVENT
DESCRIPTION:Sticker-Tauschbörse
DTSTART:20260508T150000
DTEND:20260508T170000
URL;VALUE=URI:https://www.fischapark.at/de/events/sticker-tauschboerse/2026-05-08
SUMMARY:Sticker-Tauschbörse
DTSTAMP:20260420T102004
UID:69e5fdd487455
END:VEVENT
END:VCALENDAR