BEGIN:VCALENDAR
VERSION:2.0
PRODID:-//hacksw/handcal//NONSGML v1.0//EN
CALSCALE:GREGORIAN
X-WR-TIMEZONE:Europe/Vienna
BEGIN:VEVENT
DESCRIPTION:Kasperltheater
DTSTART:20260521T150000
DTEND:20260521T173000
URL;VALUE=URI:https://www.fischapark.at/de/events/kasperl/2026-05-21
SUMMARY:Kasperltheater
DTSTAMP:20260424T123809
UID:69eb643128f9e
END:VEVENT
END:VCALENDAR